Workbook
Name AFSENDER: #REF!
Name AFSENDERTITEL: #REF!
Name MODTAGERTITEL: #REF!
Name MUSEER: #REF!

Sheet PRISLISTE NAT.
B3: PRISLISTE NATURVIDENSKAB | F3: #VALUE!
B4: Priser gældende fra oktober 2026. Fra 2022 og frem indeksreguleres timeprisen halvårligt den 1/4 og 1/10. Man er altid velkommen til (omkostningsfrit) at ringe til afdelingen med sprøgsmål. Alle priser er vejledende. Ret til ændringer forbeholdes.
B5: Kontakt afdelingen: 87 39 40 41 | D5: Timepris (kr. ex. moms): | F5: 750
B6: POST | C6: KOMMENTAR / BESKRIVELSE | D6: PRØVETYPE | E6: PRIS EX. MOMS (kr.)
B7: KONSULENTSERVICE - Vi anbefaler at ansøge om konsulentservice i forbindelse med budgetplanlægning
B8: Strategimøde (telefonisk/i felten) | C8: F.eks. via videoopkald | E8: =$F$5 -> 750 | F8: pr. time
B9: Prøveudtagning/feltarbejde | C9: Ekskl. kørsel og felttillæg | E9: =$F$5 -> 750 | F9: pr. time
B10: Kørsel | C10: Tur-retur mellem Moesgård og lokalitet | E10: 3.94 | F10: pr. km
B11: Felttillæg | C11: Ved feltarbejde | E11: 100 | F11: pr. dag
B12: Andre udgifter | C12: Fx overnatning, følger statens takster | F12: Kontakt afdelingen: 87 39 40 41
B13: PRØVEFORARBEJDNING
B14: Flotering | C14: Max. 5 liters jordprøve | E14: 471 | F14: pr. prøve
B15: Vådsoldning (0,25-2mm) | C15: Max. 5 liters jordprøve. Soldning til f.eks. screening af makrofossiler, insekter og smedeskæl | E15: =$E$14*5 -> 2355 | F15: pr. prøve
B16: MAKROFOSSILER
B17: Startgebyr | E17: =$F$5*2 -> 1500 | F17: pr. sag
B18: Kursorisk gennemsyn | C18: Typisk ekspeditionstid 3-4 måneder | D18: Tørt | E18: 174 | F18: pr. prøve
D19: Vådt (prøvemængde: 100 ml) | E19: =$F$5*2 -> 1500 | F19: pr. prøve
B20: Ekspres kursorisk gennemsyn | C20: Typisk ekspeditionstid 3-4 uger | D20: Tørt | E20: =$E$18*1.5 -> 261 | F20: pr. prøve
B21: (efter aftale) | D21: Vådt (prøvemængde: 100 ml) | E21: =$E$19*1.5 -> 2250 | F21: pr. prøve
B22: Ompakning af prøver ifm. gennemsyn | C22: F.eks. ved adskillelse af arkæologiske fund fra makrofossiler og prøver i stofposer, hvor ompakning er nødvendig | E22: 35 | F22: pr. prøve
B23: Analyse med rapport | C23: Kontakt afdelingen | E23: =$F$5 -> 750 | F23: pr. time
B24: UDTAGNING TIL 14C-DATERING - OBS! Ved flere end 100 udtagninger til 14C-datering fra samme sag gives 20 % rabat
B25: Udtagning til 14C | C25: Typisk ekspeditionstid 8-12 uger | D25: 1. prøve | E25: 869
C26: (ekskl. forsendelse) | D26: 2. og 3. prøve | E26: 759 | F26: pr. prøve
D27: Efterfølgende prøver | E27: 723 | F27: pr. prøve
B28: Ekspres udtagning til 14C | C28: Typisk ekspeditionstid 2-3 uger | D28: 1. prøve | E28: =E25*1.5 -> 1303.5
C29: (ekskl. forsendelse) | D29: 2. og 3. prøve | E29: =E26*1.5 -> 1138.5 | F29: pr. prøve
D30: Efterfølgende prøver | E30: =E27*1.5 -> 1084.5 | F30: pr. prøve
B31: Wiggle-match udtagning | D31: Udtagning af 2 prøver fra et emne | E31: =$F$5*3 -> 2250 | F31: pr. emne
D32: Udtagning af 3 prøver fra et emne | E32: =$F$5*4 -> 3000 | F32: pr. emne
D33: Udtagning af 4 eller flere prøver fra et emne | E33: =$F$5*6 -> 4500 | F33: pr. emne
B34: Indtastning til Poznan | E34: 32 | F34: pr. prøve
B35: TRÆKUL
B36: Startgebyr | E36: =$F$5*2 -> 1500 | F36: pr. sag
B37: Kursorisk vedgennemsyn | C37: Inkl. grundlæggende rapport, prøvevurdering og bestemmelse af 10 stykker trækul | E37: =$F$5*2 -> 1500 | F37: pr. prøve
B38: Vedanalyse | C38: Ekskl. rapport. Inkluderer bestemmelse af op til 30 stk. trækul. Identifikationsantallet er med forbehold i bevarings- og fragmentationsgrad | E38: =$F$5*6 -> 4500 | F38: pr. prøve
B39: Rapport (vedanalyse) | C39: Typisk ekspeditionstid 8-12 måneder | D39: Til og med 4 prøver = 2 timer | E39: =$F$5*2 -> 1500 | F39: pr. rapport
D40: 5-9 prøver = 8 timer | E40: =$F$5*8 -> 6000 | F40: pr. rapport
D41: 10-30 prøver = 16 timer | E41: =$F$5*16 -> 12000 | F41: pr. rapport
D42: Flere end 30 prøver = 24 timer | E42: =$F$5*24 -> 18000 | F42: pr. rapport
B43: VANDDRUKKENT/UFORKULLET TRÆ
B44: Startgebyr | E44: =$F$5*2 -> 1500 | F44: pr. sag
B45: Identifikation og bearbejdningsspor | C45: Vedbestemmsle, beskrivelse af tømmer og evt. bearbejdningsspor | D45: Konserveringsgenstande | E45: =$F$5*2 -> 1500 | F45: pr. prøve
D46: Ikke-konserveringsemner | E46: =$F$5*1.5 -> 1125 | F46: pr. prøve
B47: Identifikation | C47: Vedbestemmsle, beskrivelse af tømmer | D47: Prøver kasseres/returneres efter undersøgelse | E47: =$F$5*0.75 -> 562.5 | F47: pr. prøve
B48: DENDROKRONOLOGI
B49: Startgebyr | E49: =$F$5*2 -> 1500 | F49: pr. sag
B50: Kursorisk gennemsyn | C50: Uegnede og udaterbare prøver | E50: =$F$5*0.6 -> 450 | F50: pr. prøve
B51: Dendrokronologisk datering | C51: Startgebyr for datering | E51: =$F$5*3 -> 2250 | F51: pr. sag
C52: Typisk ekspeditionstid 1-2 måneder | D52: Arkæologiske fund | E52: =$F$5*2 -> 1500 | F52: pr. prøve
D53: Stående bygninger (fx. boreprøver) | E53: =$F$5 -> 750 | F53: pr. prøve
B54: Prøveudtagning (fx boreprøver) | C54: Se prøveudtagning/feltarbejde under KONSULENTSERVICE | F54: Kontakt afdelingen: 87 39 40 41
B55: TEFRA
B56: Analyse | F56: Kontakt afdelingen: 87 39 40 41
B57: MATERIALEANALYSER
B58: Fx læder og hud, tekstil og pels, metalidentifikation og lipidanalyse | F58: Se PRISLISTE KONS.
B59: FORSENDELSE MM.
B60: Forsendelse | C60: Ved rekommanderet forsendelse af prøver inden for Europa | D60: <2 kg | E60: 335 | F60: pr. sag
C61: Ved pakker >2 kg: Kontakt afdelingen: 87 39 40 41 | D61: >2 kg | E61: =$F$5 -> 750 | F61: pr. sag
B62: Sammenskrivning | C62: Sammenskrivning af flere analyser fra én specifik sag/udgravning | F62: Kontakt afdelingen: 87 39 40 41
B63: Returnering af prøver til museet | F63: Kontakt afdelingen: 87 39 40 41

Sheet PRISBEREGNER NAT.
B3: PRISBEREGNER NATURVIDENSKAB | I3: #VALUE!
B5: Skemaets beregninger er baseret på priserne fra arket "PRISLISTE NATURVIDENSKAB". Se dette ark for uddybende kommentarer angående priserne. | H5: DATO
B6: Skemaet kan benyttes til at udregne priser og skabe overblik over naturvidenskablige undersøgelser ifm. ansøgninger til Slots- og Kulturstyrelsen. | H6: JOURNAL NR.
B7: I de gule felter i kolonne E indtastes det ønskede/forventede antal af de relevante ydelser for den givne lokalitet. Alle priser er vejledende.
G8: Timepris (kr. ex. moms): | I8: 750
B9: POST | C9: PRØVETYPE / KOMMENTAR | D9: PRIS PR. ENHED | E9: ANTAL | G9: PRIS EX. MOMS | H9: MOMS | I9: PRIS INKL. MOMS
B10: KONSULENTSERVICE
B11: Strategimøde (telefonisk/i felten) | C11: F.eks. via videoopkald | D11: =$I$8 -> 750 | F11: timer | G11: =D11*E11 -> 0 | H11: =G11*0.25 -> 0 | I11: =SUM(G11:H11) -> 0
B12: Strategimøde i felten | C12: Ekskl. kørsel | D12: =$I$8 -> 750 | F12: timer | G12: =D12*E12 -> 0 | H12: =G12*0.25 -> 0 | I12: =SUM(G12:H12) -> 0
B13: Prøveudtagning/feltarbejde | C13: Ekskl. kørsel og felttillæg | D13: =$I$8 -> 750 | F13: timer | G13: =D13*E13 -> 0 | H13: =G13*0.25 -> 0 | I13: =SUM(G13:H13) -> 0
B14: Kørsel | C14: T/r Moesgård-lokalitet | D14: ='PRISLISTE NAT.'!E10 -> 3.94 | F14: km | G14: =D14*E14 -> 0 | H14: =G14*0.25 -> 0 | I14: =SUM(G14:H14) -> 0
B15: Felttillæg | C15: Pr. dag | D15: ='PRISLISTE NAT.'!E11 -> 100 | F15: dage | G15: =D15*E15 -> 0 | H15: =G15*0.25 -> 0 | I15: =SUM(G15:H15) -> 0
B16: Andre udgifter | C16: Fx overnatning, følger statens takster | E16: kr. | G16: =SUM(D16) -> 0 | H16: =G16*0.25 -> 0 | I16: =SUM(G16:H16) -> 0
B17: SAMLET | G17: =SUM(G11:G16) -> 0 | H17: =SUM(H11:H16) -> 0 | I17: =SUM(I11:I16) -> 0
B18: PRØVEFORARBEJDNING
B19: Flotering | C19: 5 L jordprøve | D19: 471 | F19: prøver | G19: =D19*E19 -> 0 | H19: =G19*0.25 -> 0 | I19: =SUM(G19:H19) -> 0
B20: Vådsoldning (0,25-2mm) | C20: Max. 5 L jord. Til screening af insekter, smedeskæl osv. | D20: =D19*5 -> 2355 | F20: prøver | G20: =D20*E20 -> 0 | H20: =G20*0.25 -> 0 | I20: =SUM(G20:H20) -> 0
B21: SAMLET | G21: =SUM(G19:G20) -> 0 | H21: =SUM(H19:H20) -> 0 | I21: =SUM(I19:I20) -> 0
B22: MAKROFOSSILER
B23: Startgebyr pr. ny sag | C23: Startgebyr ekskluderes (forsættelse af sag) | E23: FALSE | G23: =IF(E23=TRUE(),,IF(OR(E24>0,E25>0,E26>0,E27>0,E29>0),$I$8*2,)) -> 0 | H23: =G23*0.25 -> 0 | I23: =SUM(G23:H23) -> 0
B24: Kursorisk gennemsyn | C24: Tørt | D24: ='PRISLISTE NAT.'!$E$18 -> 174 | F24: prøver | G24: =D24*E24 -> 0 | H24: =G24*0.25 -> 0 | I24: =SUM(G24:H24) -> 0
C25: Vådt (prøvemængde: 100 ml) | D25: ='PRISLISTE NAT.'!E19 -> 1500 | F25: prøver | G25: =D25*E25 -> 0 | H25: =G25*0.25 -> 0 | I25: =SUM(G25:H25) -> 0
B26: Ekspres kursorisk gennemsyn | C26: Tørt | D26: ='PRISLISTE NAT.'!E20 -> 261 | F26: prøver | G26: =D26*E26 -> 0 | H26: =G26*0.25 -> 0 | I26: =SUM(G26:H26) -> 0
B27: (efter aftale) | C27: Vådt (prøvemængde: 100 ml) | D27: ='PRISLISTE NAT.'!E21 -> 2250 | F27: prøver | G27: =D27*E27 -> 0 | H27: =G27*0.25 -> 0 | I27: =SUM(G27:H27) -> 0
B28: Ompakning af prøver ifm. gennemsyn | D28: ='PRISLISTE NAT.'!$E$22 -> 35 | F28: prøver | G28: =D28*E28 -> 0 | H28: =G28*0.25 -> 0 | I28: =SUM(G28:H28) -> 0
B29: Analyse med rapport | C29: Kontakt afdelingen (Tlf. 87 39 40 41) | D29: =I8 -> 750 | F29: timer | G29: =D29*E29 -> 0 | H29: =G29*0.25 -> 0 | I29: =SUM(G29:H29) -> 0
B30: SAMLET | G30: =SUM(G23:G29) -> 0 | H30: =SUM(H23:H29) -> 0 | I30: =SUM(I23:I29) -> 0
B31: UDTAGNING TIL 14C-DATERING
B32: Udtagning til 14C | C32: 20% rabat ved 100+ prøver | D32: ='PRISLISTE NAT.'!$E$27&"-"&'PRISLISTE NAT.'!$E$25&" kr." -> 723-869 kr. | F32: prøver | G32: =IF(E32=1,'PRISLISTE NAT.'!E25,IF(E32=2,('PRISLISTE NAT.'!E25+'PRISLISTE NAT.'!E26),IF(E32=3,('PRISLISTE NAT.'!E25+'PRISLISTE NAT.'!E26+'PRISLISTE NAT.'!E26),IF(AND(E32>3,E32<100),('PRISLISTE NAT.'!E25+'PRISLISTE NAT.'!E26+'PRISLISTE NAT.'!E26+((E32-3)*'PRISLISTE NAT.'!E27)),IF(E32>=100,(('PRISLISTE NAT.'!E25+'PRISLISTE NAT.'!E26+'PRISLISTE NAT.'!E26+(E32-3)*'PRISLISTE NAT.'!E27)*0.8),))))) -> 0 | H32: =G32*0.25 -> 0 | I32: =SUM(G32:H32) -> 0
B33: Ekspres udtagning til 14C | C33: (efter aftale) | D33: ='PRISLISTE NAT.'!$E$30&"-"&'PRISLISTE NAT.'!$E$28&" kr." -> 1084,5-1303,5 kr. | F33: prøver | G33: =IF(E33=1,'PRISLISTE NAT.'!E28,IF(E33=2,('PRISLISTE NAT.'!E28+'PRISLISTE NAT.'!E29),IF(E33=3,('PRISLISTE NAT.'!E28+'PRISLISTE NAT.'!E29*2),IF(E33>3,('PRISLISTE NAT.'!E28+'PRISLISTE NAT.'!E29*2+(E33-3)*'PRISLISTE NAT.'!E30),)))) -> 0 | H33: =G33*0.25 -> 0 | I33: =SUM(G33:H33) -> 0
B34: Wiggle-match udtagning | C34: 2 udt. fra ét emne | D34: ='PRISLISTE NAT.'!E31 -> 2250 | F34: emner/prøver | G34: =D34*E34 -> 0 | H34: =G34*0.25 -> 0 | I34: =SUM(G34:H34) -> 0
C35: 3 udt. fra ét emne | D35: ='PRISLISTE NAT.'!E32 -> 3000 | F35: emner/prøver | G35: =D35*E35 -> 0 | H35: =G35*0.25 -> 0 | I35: =SUM(G35:H35) -> 0
C36: 4 eller flere udt. fra ét emne | D36: ='PRISLISTE NAT.'!E33 -> 4500 | F36: emner/prøver | G36: =D36*E36 -> 0 | H36: =G36*0.25 -> 0 | I36: =SUM(G36:H36) -> 0
B37: Indtastning til Poznan | D37: ='PRISLISTE NAT.'!$E$34 -> 32 | F37: prøver | G37: =D37*E37 -> 0 | H37: =G37*0.25 -> 0 | I37: =SUM(G37:H37) -> 0
B38: Forsendelse til dateringslab. | D38: ='PRISLISTE NAT.'!E60 -> 335 | F38: pakker | G38: =D38*E38 -> 0 | H38: =G38*0.25 -> 0 | I38: =SUM(G38:H38) -> 0
B39: SAMLET | G39: =SUM(G32:G38) -> 0 | H39: =SUM(H32:H38) -> 0 | I39: =SUM(I32:I38) -> 0
B40: TRÆKUL
B41: Startgebyr pr. ny sag | C41: Startgebyr ekskluderes (forsættelse af sag) | E41: FALSE | G41: =IF(E41=TRUE(),,IF(OR(E42>0,E43>0),$I$8*2,)) -> 0 | H41: =G41*0.25 -> 0 | I41: =SUM(G41:H41) -> 0
B42: Kursorisk vedgennemsyn | C42: Inkl. simpel rapport | D42: =$I$8*2 -> 1500 | F42: prøver | G42: =D42*E42 -> 0 | H42: =G42*0.25 -> 0 | I42: =SUM(G42:H42) -> 0
B43: Vedanalyse | C43: Ekskl. rapport | D43: =$I$8*6 -> 4500 | F43: prøver | G43: =D43*E43 -> 0 | H43: =G43*0.25 -> 0 | I43: =SUM(G43:H43) -> 0
B44: Rapport | G44: =IF(E43="",,IF(E43<5,$I$8*2,IF(AND(E43<10,E43>4),$I$8*8,IF(AND(E43>9,E43<31),$I$8*16,IF(E43>30,$I$8*24,))))) -> 0 | H44: =G44*0.25 -> 0 | I44: =SUM(G44:H44) -> 0
B45: SAMLET | G45: =SUM(G41:G44) -> 0 | H45: =SUM(H41:H44) -> 0 | I45: =SUM(I41:I44) -> 0
B46: VANDDRUKKENT TRÆ
B47: Startgebyr pr. ny sag | C47: Startgebyr ekskluderes (forsættelse af sag) | E47: FALSE | G47: =IF(E47=TRUE(),,IF(OR(E48>0,E49>0,E50>0),$I$8*2,)) -> 0 | H47: =G47*0.25 -> 0 | I47: =SUM(G47:H47) -> 0
B48: Identifikation og bearbejdningsspor | C48: Konserveringsgenstande | D48: =$I$8*2 -> 1500 | F48: prøver | G48: =D48*E48 -> 0 | H48: =G48*0.25 -> 0 | I48: =SUM(G48:H48) -> 0
C49: Ikke-konserveringsemner | D49: =$I$8*1.5 -> 1125 | F49: prøver | G49: =D49*E49 -> 0 | H49: =G49*0.25 -> 0 | I49: =SUM(G49:H49) -> 0
B50: Identifikation | C50: Prøver kasseres/returneres efter undersøgelse | D50: =$I$8*0.75 -> 562.5 | F50: prøver | G50: =D50*E50 -> 0 | H50: =G50*0.25 -> 0 | I50: =SUM(G50:H50) -> 0
B51: SAMLET | G51: =SUM(G47:G50) -> 0 | H51: =SUM(H47:H50) -> 0 | I51: =SUM(I47:I50) -> 0
B52: DENDROKRONOLOGI
B53: Startgebyr pr. sag | C53: Startgebyr ekskluderes (forsættelse af sag) | E53: FALSE | G53: =IF(E53=TRUE(),,IF(OR(E54>0,E56>0,E57>0),$I$8*2,)) -> 0 | H53: =G53*0.25 -> 0 | I53: =SUM(G53:H53) -> 0
B54: Kursorisk gennemsyn | C54: Uegnede og udaterbare prøver | D54: ='PRISLISTE NAT.'!E50 -> 450 | F54: prøver | G54: =D54*E54 -> 0 | H54: =G54*0.25 -> 0 | I54: =SUM(G54:H54) -> 0
B55: Dendrokronologisk datering | C55: Opstart for datering | G55: =IF(OR(E56>0,E57>0),$I$8*2,) -> 0 | H55: =G55*0.25 -> 0 | I55: =SUM(G55:H55) -> 0
C56: Arkæologiske fund | D56: ='PRISLISTE NAT.'!E52 -> 1500 | F56: prøver | G56: =D56*E56 -> 0 | H56: =G56*0.25 -> 0 | I56: =SUM(G56:H56) -> 0
C57: Stående bygninger (fx. boreprøver) | D57: ='PRISLISTE NAT.'!E53 -> 750 | F57: prøver | G57: =D57*E57 -> 0 | H57: =G57*0.25 -> 0 | I57: =SUM(G57:H57) -> 0
B58: SAMLET | G58: =SUM(G53:G57) -> 0 | H58: =SUM(H53:H57) -> 0 | I58: =SUM(I53:I57) -> 0
B59: TEFRA
B60: Analyse | C60: Kontakt afdelingen (Tlf. 87 39 40 41) | D60: =$I$8 -> 750 | F60: timer | G60: =D60*E60 -> 0 | H60: =G60*0.25 -> 0 | I60: =SUM(G60:H60) -> 0
B61: SAMLET | G61: =SUM(G60:G60) -> 0 | H61: =SUM(H60:H60) -> 0 | I61: =SUM(I60:I60) -> 0
B62: FORSENDELSE MM.
B63: Forsendelse (pr. sag) | C63: <2kg | D63: ='PRISLISTE NAT.'!E60 -> 335 | F63: pakker | G63: =D63*E63 -> 0 | H63: =G63*0.25 -> 0 | I63: =SUM(G63:H63) -> 0
C64: >2kg (Kontakt afdelingen, tlf. 87 39 40 41) | D64: =$I$8 -> 750 | F64: timer | G64: =D64*E64 -> 0 | H64: =G64*0.25 -> 0 | I64: =SUM(G64:H64) -> 0
B65: Sammenskrivning af rapporter (pr. sag) | C65: Kontakt afdelingen (Tlf. 87 39 40 41) | D65: =$I$8 -> 750 | F65: timer | G65: =D65*E65 -> 0 | H65: =G65*0.25 -> 0 | I65: =SUM(G65:H65) -> 0
B66: Returnering af prøver til museet | D66: =$I$8 -> 750 | F66: timer | G66: =D66*E66 -> 0 | H66: =G66*0.25 -> 0 | I66: =SUM(G66:H66) -> 0
B67: SAMLET | G67: =SUM(G63:G66) -> 0 | H67: =SUM(H63:H66) -> 0 | I67: =SUM(I63:I66) -> 0
B68: SAMLET PRIS FOR NATURVIDENSKAB
B69: KATEGORI | G69: PRIS EX. MOMS | H69: MOMS | I69: PRIS INKL. MOMS
B70: =B$10 -> KONSULENTSERVICE | C70: SUM | G70: =G$17 -> 0 | H70: =H$17 -> 0 | I70: =I$17 -> 0
B71: =B$18 -> PRØVEFORARBEJDNING | C71: SUM | G71: =G$21 -> 0 | H71: =H$21 -> 0 | I71: =I$21 -> 0
B72: =B$22 -> MAKROFOSSILER | C72: SUM | G72: =G$30 -> 0 | H72: =H$30 -> 0 | I72: =I$30 -> 0
B73: =" KURSORISK" -> KURSORISK | G73: =SUM(G$23:G$28) -> 0 | H73: =SUM(H$23:H$28) -> 0 | I73: =SUM(I$23:I$28) -> 0
B74: =" ANALYSE" -> ANALYSE | G74: =SUM(G$29:G$29) -> 0 | H74: =SUM(H$29:H$29) -> 0 | I74: =SUM(I$29:I$29) -> 0
B75: =B$31 -> UDTAGNING TIL 14C-DATERING | C75: SUM | G75: =G$39 -> 0 | H75: =H$39 -> 0 | I75: =I$39 -> 0
B76: =B$40 -> TRÆKUL | C76: SUM | G76: =G$45 -> 0 | H76: =H$45 -> 0 | I76: =I$45 -> 0
B77: =" KURSORISK" -> KURSORISK | G77: =SUM(G$41:G$42) -> 0 | H77: =SUM(H$41:H$42) -> 0 | I77: =SUM(I$41:I$42) -> 0
B78: =" ANALYSE" -> ANALYSE | G78: =SUM(G$43:G$44) -> 0 | H78: =SUM(H$43:H$44) -> 0 | I78: =SUM(I$43:I$44) -> 0
B79: =B$46 -> VANDDRUKKENT TRÆ | C79: SUM | G79: =G$51 -> 0 | H79: =H$51 -> 0 | I79: =I$51 -> 0
B80: =B$52 -> DENDROKRONOLOGI | C80: SUM | G80: =G58 -> 0 | H80: =H58 -> 0 | I80: =I58 -> 0
B81: =" KURSORISK" -> KURSORISK | G81: =SUM(G$53:G$54) -> 0 | H81: =SUM(H$53:H$54) -> 0 | I81: =SUM(I$53:I$54) -> 0
B82: =" DATERING" -> DATERING | G82: =SUM(G$55:G$57) -> 0 | H82: =SUM(H$55:H$57) -> 0 | I82: =SUM(I$55:I$57) -> 0
B83: =B$59 -> TEFRA | C83: SUM | G83: =G$61 -> 0 | H83: =H$61 -> 0 | I83: =I$61 -> 0
B84: =B$62 -> FORSENDELSE MM. | C84: SUM | G84: =G$67 -> 0 | H84: =H$67 -> 0 | I84: =I$67 -> 0
B85: SAMLET | G85: =SUMIF($C$70:$C$84,"SUM",G$70:G$84) -> 0 | H85: =SUMIF($C$70:$C$84,"SUM",H$70:H$84) -> 0 | I85: =SUMIF($C$70:$C$84,"SUM",I$70:I$84) -> 0

Sheet PRISLISTE KONS.
B3: PRISLISTE KONSERVERING | G3: #VALUE!
B4: Priser gældende fra oktober 2026. Fra 2022 og frem indeksreguleres timeprisen halvårligt den 1/4 og 1/10. Alle priser er vejledende og afspejler kun gennemsnitsprisen for en enkelt genstand. Fragmenteringsgraden vil have yderligere indflydelse på prisen. Ved flere ensartede genstande vil prisen være reduceret. Man er altid velkommen til (omkostningsfrit) at ringe til afdelingen med sprøgsmål. Ret til ændringer forbeholdes.
B5: Kontakt afdelingen: 87 39 40 44 | F5: Timepris (kr. ex. moms): | G5: 750
B6: POST | C6: KOMMENTAR / BESKRIVELSE | D6: PRØVETYPE | E6: TIMEANTAL | F6: PRIS EX.MOMS (kr.)
B7: KONSULENTSERVICE - Vi anbefaler at ansøge om konsulentservice i forbindelse med budgetplanlægning
B8: Strategimøde (telefonisk) | C8: F.eks. via skype | F8: =$G$5 -> 750 | G8: pr. time
B9: Strategimøde i felten | C9: Ekskl. kørsel | F9: =$G$5 -> 750 | G9: pr. time
B10: Prøveudtagning/feltarbejde | C10: Ekskl. kørsel og felttillæg | F10: =$G$5 -> 750 | G10: pr. time
B11: Kørsel | C11: Tur-retur mellem Moesgård og lokalitet | F11: 3.94 | G11: pr. km
B12: Felttillæg | C12: Ved feltarbejde | F12: 100 | G12: pr. dag
B13: PRÆPARATOPTAG
B14: Startgebyr | F14: =$G$5*2 -> 1500 | G14: pr. sag
B15: Stort præparat (f.eks. urne, sværd) | C15: Ekskl. kørsel | E15: 6 | F15: =$G$5*E15 -> 4500 | G15: pr. præparat
B16: Lille præparat (f.eks. kniv, fibel) | C16: Ekskl. kørsel | E16: 4 | F16: =$G$5*E16 -> 3000 | G16: pr. præparat
B17: Kørsel | C17: Tur-retur mellem Moesgård og lokalitet | F17: 3.94 | G17: pr. km
B18: SÆRLIG DOKUMENTATION
B19: Startgebyr | F19: =$G$5*2 -> 1500 | G19: pr. sag
B20: Mikroskopbilleder | D20: 1. genstand | E20: 0.5 | F20: =$G$5*E20 -> 375 | G20: pr. genstand
D21: Efterfølgende genstande | E21: 0.25 | F21: =$G$5*E21 -> 187.5 | G21: pr. genstand
B22: Røntgenbilleder | C22: Præparat med enkelt genstand | E22: 1.65 | F22: =$G$5*E22 -> 1237.5 | G22: pr. genstand
C23: Urne eller præparat med flere genstande | F23: Kontakt afdelingen (tlf. 87 39 40 44)
C24: Fritlagt genstand | D24: 1. genstand | E24: 0.65 | F24: =$G$5*E24 -> 487.5 | G24: pr. genstand
D25: Efterfølgende genstande | E25: 0.5 | F25: =$G$5*E25 -> 375 | G25: pr. genstand
B26: 3D dokumentation | C26: Henvendelse til Arkæologisk IT (tlf. 87 16 21 76) vedr. priser på feltarbejde, genstande eller præparater | F26: Kontakt afdelingen (tlf. 87 39 40 44)
B27: CT-SCANNING
B28: Startgebyr | F28: =$G$5*2.5 -> 1875 | G28: pr. sag
B29: CT-scanning | C29: Fx urner (ekskl. 1 times transport) | F29: Kontakt afdelingen (tlf. 87 39 40 44)
B30: Mikro CT-scanning | C30: Fx trægenstande ifbm. dendrokronologi (ekskl. 1 times transport) | F30: Kontakt afdelingen (tlf. 87 39 40 44)
B31: MATERIALEANALYSER
B32: Startgebyr | F32: =$G$5*2 -> 1500 | G32: pr. sag
B33: Artsbestemmelse | C33: Af læder og hud | E33: 4 | F33: =$G$5*$E33 -> 3000 | G33: pr. prøve
B34: Fiberidentifikation | C34: Af tekstil og pels | E34: 4 | F34: =$G$5*$E34 -> 3000 | G34: pr. prøve
B35: Spottest | C35: Metalidentifikation | E35: 4 | F35: =$G$5*$E35 -> 3000 | G35: pr. prøve
B36: Lipidanalyse | C36: Analyse (eksternt laboratorie): 840 euro (6.300,00 kr.) ex.moms. | F36: =840*7.5 -> 6300 | G36: pr. prøve
C37: Udtagning, forsendelse, og tolkning | D37: 1. prøve/genstand | E37: 7 | F37: =$G$5*$E37 -> 5250 | G37: pr. prøve
D38: Efterfølgende prøver/genstande | F38: Kontakt afdelingen (tlf. 87 39 40 44)
B39: STABILISERENDE KONSERVERING - Vejledende priser for typiske eksempler (inkluderer 1,5 time til opstart, modtagelse, pakning, tilbud- og rapportskrivning) Alle genstande pakkes i syrefrie materialer til længerevarende opmagasinering eller efter behov til transport med medfølgende rapport om observationer og klimaanbefalinger
B40: Startgebyr | F40: =$G$5*2 -> 1500 | G40: pr. sag
B41: Jern | C41: Kniv, middelstørrelse | E41: 9 | F41: =$G$5*E41 -> 6750 | G41: pr. genstand
C42: Nitte/søm | E42: 6 | F42: =$G$5*E42 -> 4500 | G42: pr. genstand
C43: Fibel | E43: 10 | F43: =$G$5*E43 -> 7500 | G43: pr. genstand
C44: Økse | E44: 16 | F44: =$G$5*E44 -> 12000 | G44: pr. genstand
B45: Bronze | C45: Fibel, ukompliceret | E45: 12 | F45: =$G$5*E45 -> 9000 | G45: pr. genstand
C46: Mønt | E46: 8 | F46: =$G$5*E46 -> 6000 | G46: pr. genstand
B47: Bly | C47: Vægtlod | E47: 4 | F47: =$G$5*E47 -> 3000 | G47: pr. genstand
B48: Sølv | C48: Fibel | E48: 16 | F48: =$G$5*E48 -> 12000 | G48: pr. genstand
C49: Mønt | E49: 8 | F49: =$G$5*E49 -> 6000 | G49: pr. genstand
B50: Glasperle | D50: 1-3. stk. | E50: 1 | F50: =$G$5*E50 -> 750 | G50: pr. genstand
D51: Efterfølgende genstande | E51: 0.5 | F51: =$G$5*E51 -> 375 | G51: pr. genstand
B52: Ravperle | D52: 1-3. stk. | E52: 2 | F52: =$G$5*E52 -> 1500 | G52: pr. genstand
D53: Efterfølgende genstande | E53: 1 | F53: =$G$5*E53 -> 750 | G53: pr. genstand
B54: Keramik | C54: Stabiliserende sammensætning af kar | E54: 30 | F54: =$G$5*E54 -> 22500 | G54: pr. kar
C55: Udgravning af tomt kar | E55: 6 | F55: =$G$5*E55 -> 4500 | G55: pr. kar
C56: Udgravning af urne med knogler og genstande | F56: Kontakt afdelingen (tlf. 87 39 40 44)
B57: Ben og tak (tørt) | C57: Nål | E57: 2 | F57: =$G$5*E57 -> 1500 | G57: pr. genstand
C58: Perle | E58: 2 | F58: =$G$5*E58 -> 1500 | G58: pr. genstand
C59: Spillebrik | E59: 3 | F59: =$G$5*E59 -> 2250 | G59: pr. genstand
B60: Ubrændt ler | C60: Vævevægt e. lign. | E60: 12 | F60: =$G$5*E60 -> 9000 | G60: pr. genstand
B61: Komposit | C61: Jernkniv m. organisk skaft (ex. træ eller ben) | E61: 24 | F61: =$G$5*E61 -> 18000 | G61: pr. genstand
C62: Bronzefibel m. organisk materiale (ex. tekstil eller træ) | E62: 15 | F62: =$G$5*E62 -> 11250 | G62: pr. genstand
B63: Forkullet træ | C63: Stabilisering med lim af forkullet træ i præparat/kokon (til fx dendrokronologi) | E63: 2.5 | F63: =$G$5*E63 -> 1875 | G63: pr. genstand
B64: FRYSETØRRING
B65: Vanddrukkent træ | C65: Mindre genstande (ex. åreblad) | F65: Kontakt afdelingen (tlf. 87 39 40 44)
C66: Større genstande (ex. bygningstømmer) | F66: Kontakt afdelingen (tlf. 87 39 40 44)
B67: Læder (vådfundet) | C67: Læderfragmenter (5 stk.) | F67: Kontakt afdelingen (tlf. 87 39 40 44)
B68: Tekstil (vådfundet) | C68: 5 stk. | F68: Kontakt afdelingen (tlf. 87 39 40 44)
B69: Borekerne | C69: Pollensøjle | F69: Kontakt afdelingen (tlf. 87 39 40 44)

Sheet PRISBEREGNER KONS.
B3: PRISBEREGNER KONSERVERING | I3: #VALUE!
B5: Skemaets beregninger er baseret på priserne fra arket "Prisliste Konservering". | H5: DATO
B6: Skemaet kan benyttes til at udregne priser og skabe overblik over konservering ifm. ansøgninger til Slots- og Kulturstyrelsen. | H6: JOURNAL NR.
B7: I de gule felter i kolonne E indtastes det ønskede/forventede antal af de relevante ydelser for den givne lokalitet.
G8: Timepris (kr. ex. moms): | I8: 750
B9: POST | C9: PRØVETYPE / KOMMENTAR | D9: PRIS PR. ENHED | E9: ANTAL | G9: PRIS EX. MOMS | H9: MOMS | I9: PRIS INKL. MOMS
B10: KONSULENTSERVICE
B11: Strategimøde (telefonisk) | C11: F.eks. via skype | D11: =$I$8 -> 750 | F11: timer | G11: =D11*E11 -> 0 | H11: =G11*0.25 -> 0 | I11: =SUM(G11:H11) -> 0
B12: Strategimøde i felten | C12: Ekskl. kørsel | D12: =$I$8 -> 750 | F12: timer | G12: =D12*E12 -> 0 | H12: =G12*0.25 -> 0 | I12: =SUM(G12:H12) -> 0
B13: Prøveudtagning/feltarbejde | C13: Ekskl. kørsel og felttillæg | D13: =$I$8 -> 750 | F13: timer | G13: =D13*E13 -> 0 | H13: =G13*0.25 -> 0 | I13: =SUM(G13:H13) -> 0
B14: Kørsel | C14: T/r Moesgård-lokalitet | D14: ='PRISLISTE KONS.'!F11 -> 3.94 | F14: km | G14: =D14*E14 -> 0 | H14: =G14*0.25 -> 0 | I14: =SUM(G14:H14) -> 0
B15: Felttillæg | C15: Pr. dag | D15: 100 | F15: dage | G15: =D15*E15 -> 0 | H15: =G15*0.25 -> 0 | I15: =SUM(G15:H15) -> 0
B16: SAMLET | G16: =SUM(G11:G15) -> 0 | H16: =SUM(H11:H15) -> 0 | I16: =SUM(I11:I15) -> 0
B17: PRÆPARATOPTAG
B18: Startgebyr | G18: =IF(OR(E19>0,E20>0),$I$8*2,) -> 0 | H18: =G18*0.25 -> 0 | I18: =SUM(G18:H18) -> 0
B19: Stort præparat (f.eks. urne, sværd) | C19: Ekskl. kørsel | D19: ='PRISLISTE KONS.'!$F$15 -> 4500 | F19: præparater | G19: =D19*E19 -> 0 | H19: =G19*0.25 -> 0 | I19: =SUM(G19:H19) -> 0
B20: Lille præparat (f.eks. kniv, fibel) | C20: Ekskl. kørsel | D20: ='PRISLISTE KONS.'!$F$16 -> 3000 | F20: præparater | G20: =D20*E20 -> 0 | H20: =G20*0.25 -> 0 | I20: =SUM(G20:H20) -> 0
B21: Kørsel | C21: Tur-retur mellem Moesgård og lokalitet | D21: ='PRISLISTE KONS.'!F11 -> 3.94 | F21: km | G21: =D21*E21 -> 0 | H21: =G21*0.25 -> 0 | I21: =SUM(G21:H21) -> 0
B22: SAMLET | G22: =SUM(G18:G21) -> 0 | H22: =SUM(H18:H21) -> 0 | I22: =SUM(I18:I21) -> 0
B23: SÆRLIG DOKUMENTATION
B24: Startgebyr | G24: =IF(OR(E25>0,E26>0,E27>0,E28>0,E29>0),$I$8*2,) -> 0 | H24: =G24*0.25 -> 0 | I24: =SUM(G24:H24) -> 0
B25: Mikroskopbilleder | D25: ='PRISLISTE KONS.'!F20&" - "&'PRISLISTE KONS.'!F21&" kr." -> 375 - 187,5 kr. | F25: genstande | G25: =IF(E25=1,($I$8*0.5),IF(E25>1,($I$8*0.5)+(($I$8*0.25)*(E25-1)),)) -> 0 | H25: =G25*0.25 -> 0 | I25: =SUM(G25:H25) -> 0
B26: Røntgenbilleder | C26: Præparat med enkelt genstand | D26: ='PRISLISTE KONS.'!F22 -> 1237.5 | F26: genstande | G26: =D26*E26 -> 0 | H26: =G26*0.25 -> 0 | I26: =SUM(G26:H26) -> 0
C27: Urne eller præparat med flere genstande. Kontakt afdelingen (tlf. 87 39 40 44) | D27: =$I$8+100 -> 850 | F27: timer | G27: =D27*E27 -> 0 | H27: =G27*0.25 -> 0 | I27: =SUM(G27:H27) -> 0
C28: Fritlagt genstand | D28: ='PRISLISTE KONS.'!F24&" - "&'PRISLISTE KONS.'!F25&" kr." -> 487,5 - 375 kr. | F28: genstande | G28: =IF(E28=1,($I$8*0.65),IF(E28>1,($I$8*0.65)+(($I$8*0.5)*(E28-1)),)) -> 0 | H28: =G28*0.25 -> 0 | I28: =SUM(G28:H28) -> 0
B29: 3D dokumentation | C29: Kontakt afdelingen (tlf. 87 39 40 44) | D29: =$I$8 -> 750 | F29: timer | G29: =D29*E29 -> 0 | H29: =G29*0.25 -> 0 | I29: =SUM(G29:H29) -> 0
B30: SAMLET | G30: =SUM(G24:G29) -> 0 | H30: =G30*0.25 -> 0 | I30: =SUM(G30:H30) -> 0
B31: CT-SCANNING
B32: Startgebyr | G32: =IF(OR(D33>0,D34>0),$I$8*2.5,) -> 0 | H32: =G32*0.25 -> 0 | I32: =SUM(G32:H32) -> 0
B33: CT-scanning | C33: Kontakt afdelingen (Tlf. 87 39 40 41) | E33: kr. | G33: =D33*1 -> 0 | H33: =G33*0.25 -> 0 | I33: =SUM(G33:H33) -> 0
B34: Mikro CT-scanning | C34: Kontakt afdelingen (Tlf. 87 39 40 41) | E34: kr. | G34: =D34*1 -> 0 | H34: =G34*0.25 -> 0 | I34: =SUM(G34:H34) -> 0
B35: SAMLET | G35: =SUM(G32:G34) -> 0 | H35: =SUM(H32:H34) -> 0 | I35: =SUM(I32:I34) -> 0
B36: MATERIALEANALYSER
B37: Startgebyr | G37: =IF(OR(E38>0,E39>0,E40>0),$I$8*2,) -> 0 | H37: =G37*0.25 -> 0 | I37: =SUM(G37:H37) -> 0
B38: Artsbestemmelse, | C38: Af læder og hud | D38: ='PRISLISTE KONS.'!F33 -> 3000 | F38: prøver | G38: =D38*E38 -> 0 | H38: =G38*0.25 -> 0 | I38: =SUM(G38:H38) -> 0
B39: Fiberidentifikation | C39: Af tekstil og pels | D39: ='PRISLISTE KONS.'!F34 -> 3000 | F39: prøver | G39: =D39*E39 -> 0 | H39: =G39*0.25 -> 0 | I39: =SUM(G39:H39) -> 0
B40: Spottest | C40: Metalidentifikation | D40: ='PRISLISTE KONS.'!F35 -> 3000 | F40: prøver | G40: =D40*E40 -> 0 | H40: =G40*0.25 -> 0 | I40: =SUM(G40:H40) -> 0
B41: Lipidanalyse | C41: Analyse (eksternt laboratorie) | D41: ='PRISLISTE KONS.'!F36 -> 6300 | G41: =D41*E42 -> 0 | H41: =G41*0.25 -> 0 | I41: =SUM(G41:H41) -> 0
C42: Udtagning af materiale, forsendelse og tolkning af resultater | D42: ='PRISLISTE KONS.'!F37 -> 5250 | F42: prøver | G42: =D42*E42 -> 0 | H42: =G42*0.25 -> 0 | I42: =SUM(G42:H42) -> 0
B43: SAMLET | G43: =SUM(G37:G42) -> 0 | H43: =SUM(H37:H42) -> 0 | I43: =SUM(I37:I42) -> 0
B44: STABILISERENDE KONSERVERING
B45: Startgebyr | G45: =IF(OR(E46>0,E47>0,E48>0,E49>0,E50>0,E51>0,E52>0,E53>0,E54>0,E55>0,E56>0,E57>0,E58>0,E59>0,E60>0,E61>0,E62>0,E63>0,E64>0,E65>0,E48>0),$I$8*2,) -> 0 | H45: =G45*0.25 -> 0 | I45: =SUM(G45:H45) -> 0
B46: Jern | C46: Kniv, middelstørrelse | D46: ='PRISLISTE KONS.'!F41 -> 6750 | F46: genstande | G46: =IF(E46>1,D46+(($I$8*('PRISLISTE KONS.'!E41-0.5))*(E46-1)),D46*E46) -> 0 | H46: =G46*0.25 -> 0 | I46: =SUM(G46:H46) -> 0
C47: Nitte/søm | D47: ='PRISLISTE KONS.'!F42 -> 4500 | F47: genstande | G47: =IF(E47>1,D47+(($I$8*('PRISLISTE KONS.'!E42-0.5))*(E47-1)),D47*E47) -> 0 | H47: =G47*0.25 -> 0 | I47: =SUM(G47:H47) -> 0
C48: Fibel | D48: ='PRISLISTE KONS.'!F43 -> 7500 | F48: genstande | G48: =IF(E48>1,D48+(($I$8*('PRISLISTE KONS.'!E43-0.5))*(E48-1)),D48*E48) -> 0 | H48: =G48*0.25 -> 0 | I48: =SUM(G48:H48) -> 0
C49: Økse | D49: ='PRISLISTE KONS.'!F44 -> 12000 | F49: genstande | G49: =IF(E49>1,D49+(($I$8*('PRISLISTE KONS.'!E44-0.5))*(E49-1)),D49*E49) -> 0 | H49: =G49*0.25 -> 0 | I49: =SUM(G49:H49) -> 0
B50: Bronze | C50: Fibel, ukompliceret | D50: =$I$8*'PRISLISTE KONS.'!E45 -> 9000 | F50: genstande | G50: =IF(E50>1,D50+(D50*(E50-1)*0.9),D50*E50) -> 0 | H50: =G50*0.25 -> 0 | I50: =SUM(G50:H50) -> 0
C51: Mønt | D51: =$I$8*'PRISLISTE KONS.'!E46 -> 6000 | F51: genstande | G51: =D51*E51 -> 0 | H51: =G51*0.25 -> 0 | I51: =SUM(G51:H51) -> 0
B52: Bly | C52: Vægtlod | D52: =$I$8*'PRISLISTE KONS.'!E47 -> 3000 | F52: genstande | G52: =IF(E52>1,D52+(D52*(E52-1)*0.9),D52*E52) -> 0 | H52: =G52*0.25 -> 0 | I52: =SUM(G52:H52) -> 0
B53: Sølv | C53: Fibel | D53: =$I$8*'PRISLISTE KONS.'!E48 -> 12000 | F53: genstande | G53: =IF(E53>1,D53+(D53*(E53-1)*0.9),D53*E53) -> 0 | H53: =G53*0.25 -> 0 | I53: =SUM(G53:H53) -> 0
C54: Mønt | D54: =$I$8*'PRISLISTE KONS.'!E49 -> 6000 | F54: genstande | G54: =D54*E54 -> 0 | H54: =G54*0.25 -> 0 | I54: =SUM(G54:H54) -> 0
B55: Glas | C55: Perle | D55: ='PRISLISTE KONS.'!F50&" - "&'PRISLISTE KONS.'!F51&" kr." -> 750 - 375 kr. | F55: genstande | G55: =IF(E55=1,$I$8,IF(E55=2,($I$8*2),IF(E55=3,($I$8*3),IF(E55>3,($I$8*3)+(E55-3)*($I$8*0.5),)))) -> 0 | H55: =G55*0.25 -> 0 | I55: =SUM(G55:H55) -> 0
B56: Rav | C56: Perle | D56: ='PRISLISTE KONS.'!F52&" - "&'PRISLISTE KONS.'!F53&" kr." -> 1500 - 750 kr. | F56: genstande | G56: =IF(E56=1,$I$8*2,IF(E56=2,($I$8*4),IF(E56=3,($I$8*6),IF(E56>3,($I$8*6)+(E56-3)*($I$8),)))) -> 0 | H56: =G56*0.25 -> 0 | I56: =SUM(G56:H56) -> 0
B57: Keramik | C57: Stabiliserende sammensætning af kar | D57: =$I$8*'PRISLISTE KONS.'!E54 -> 22500 | F57: genstande | G57: =D57*E57 -> 0 | H57: =G57*0.25 -> 0 | I57: =SUM(G57:H57) -> 0
C58: Udgravning af tomt kar | D58: =$I$8*'PRISLISTE KONS.'!E55 -> 4500 | F58: genstande | G58: =D58*E58 -> 0 | H58: =G58*0.25 -> 0 | I58: =SUM(G58:H58) -> 0
C59: Udgravning af urne med knogler og genstande. Kontakt afdelingen (tlf. 87 39 40 44) | D59: =$I$8 -> 750 | F59: timer | G59: =D59*E59 -> 0 | H59: =G59*0.25 -> 0 | I59: =SUM(G59:H59) -> 0
B60: Ben og tak (tørt) | C60: Nål | D60: =$I$8*'PRISLISTE KONS.'!E57 -> 1500 | F60: genstande | G60: =IF(E60>1,D60+(D60*(E60-1)*0.5),D60*E60) -> 0 | H60: =G60*0.25 -> 0 | I60: =SUM(G60:H60) -> 0
C61: Perle | D61: =$I$8*'PRISLISTE KONS.'!E58 -> 1500 | F61: genstande | G61: =IF(E61>1,D61+(D61*(E61-1)*0.5),D61*E61) -> 0 | H61: =G61*0.25 -> 0 | I61: =SUM(G61:H61) -> 0
C62: Spillebrik | D62: =$I$8*'PRISLISTE KONS.'!E59 -> 2250 | F62: genstande | G62: =IF(E62>1,D62+(D62*(E62-1)*0.5),D62*E62) -> 0 | H62: =G62*0.25 -> 0 | I62: =SUM(G62:H62) -> 0
B63: Ubrændt ler | C63: Vævevægt e. lign. | D63: =$I$8*'PRISLISTE KONS.'!E60 -> 9000 | F63: genstande | G63: =IF(E63>1,D63+(D63*(E63-1)*0.75),D63*E63) -> 0 | H63: =G63*0.25 -> 0 | I63: =SUM(G63:H63) -> 0
B64: Komposit | C64: Jernkniv m. organisk skaft | D64: =$I$8*'PRISLISTE KONS.'!E61 -> 18000 | F64: genstande | G64: =D64*E64 -> 0 | H64: =G64*0.25 -> 0 | I64: =SUM(G64:H64) -> 0
C65: Bronzefibel m. organisk materiale | D65: =$I$8*'PRISLISTE KONS.'!E62 -> 11250 | F65: genstande | G65: =D65*E65 -> 0 | H65: =G65*0.25 -> 0 | I65: =SUM(G65:H65) -> 0
B66: Forkullet træ | C66: Til fx dendrokronologisk datering | D66: =$I$8*'PRISLISTE KONS.'!E63 -> 1875 | F66: præparater | G66: =D66*E66 -> 0 | H66: =G66*0.25 -> 0 | I66: =SUM(G66:H66) -> 0
B67: SAMLET | G67: =SUM(G45:G66) -> 0 | H67: =SUM(H45:H66) -> 0 | I67: =SUM(I45:I66) -> 0
B68: FRYSETØRRING
B69: Vanddrukkent træ | C69: Mindre genstande | D69: =$I$8 -> 750 | F69: timer | G69: =D69*E69 -> 0 | H69: =G69*0.25 -> 0 | I69: =SUM(G69:H69) -> 0
C70: Større genstande | D70: =$I$8 -> 750 | F70: timer | G70: =D70*E70 -> 0 | H70: =G70*0.25 -> 0 | I70: =SUM(G70:H70) -> 0
B71: Læder (vådfundet) | C71: Læderfragmenter (5 stk.) | D71: =$I$8 -> 750 | F71: timer | G71: =D71*E71 -> 0 | H71: =G71*0.25 -> 0 | I71: =SUM(G71:H71) -> 0
B72: Tekstil (vådfundet) | C72: 5 stk. Kontakt afdelingen (tlf. 87 39 40 44) | D72: =$I$8 -> 750 | F72: timer | G72: =D72*E72 -> 0 | H72: =G72*0.25 -> 0 | I72: =SUM(G72:H72) -> 0
B73: Borekerne | C73: Pollensøjle | D73: =$I$8 -> 750 | F73: timer | G73: =D73*E73 -> 0 | H73: =G73*0.25 -> 0 | I73: =SUM(G73:H73) -> 0
B74: SAMLET | G74: =SUM(G69:G73) -> 0 | H74: =SUM(H69:H73) -> 0 | I74: =SUM(I69:I73) -> 0
B75: SAMLET PRIS FOR KONSERVERING
B76: KATEGORI | G76: PRIS EX. MOMS | H76: MOMS | I76: PRIS INKL. MOMS
B77: =B$10 -> KONSULENTSERVICE | G77: =G$16 -> 0 | H77: =H$16 -> 0 | I77: =I$16 -> 0
B78: =B$17 -> PRÆPARATOPTAG | G78: =G$22 -> 0 | H78: =H$22 -> 0 | I78: =I$22 -> 0
B79: =B$23 -> SÆRLIG DOKUMENTATION | G79: =G$30 -> 0 | H79: =H$30 -> 0 | I79: =I$30 -> 0
B80: CT-SCANNING | G80: =G$35 -> 0 | H80: =H$35 -> 0 | I80: =I$35 -> 0
B81: =B$36 -> MATERIALEANALYSER | G81: =G$43 -> 0 | H81: =H$43 -> 0 | I81: =I$43 -> 0
B82: =B$44 -> STABILISERENDE KONSERVERING | G82: =G$67 -> 0 | H82: =H$67 -> 0 | I82: =I$67 -> 0
B83: FRYSETØRRING | G83: =G$74 -> 0 | H83: =H$74 -> 0 | I83: =I$74 -> 0
B84: SAMLET | G84: =SUM(G77:G83) -> 0 | H84: =SUM(H77:H83) -> 0 | I84: =SUM(I77:I83) -> 0

Sheet LOG
A1: Opdateringer | B1: Bemærkninger
A2: 45383 | B2: Indeksreguleret til timepris 665.
B3: Tilføjet mulighed for at fjerne startgebyr ved fortsættelse af sager.
B4: Lipidanalyser (konservering) er rattet jf. Helles analysebeskrivelse
B5: Fil er nu gemt i mappe kaldet "Aktuel prisliste" med generisk titel "Priser Konservering & Naturvidenskab (låst)". Ved næste opdatering udskiftes filen men samme navn benyttes så genvejene forhåbentlig ikke brydes.
A6: 45689 | B6: Alt Materialeanlyse fjernes fra priser
B7: Farver opdateres til Moesgaard farvepaletten og der tilføjer Moesgaard logo
A8: 45748 | B8: Ønskede ændring lavet. Fx kerneboringer tilføjet, knogler ændret en del.
