Workbook
Name AFSENDER: #REF!
Name AFSENDERTITEL: #REF!
Name MODTAGERTITEL: #REF!
Name MUSEER: #REF!

Sheet PRISLISTE NAT.
B3: PRISLISTE NATURVIDENSKAB | F3: #VALUE!
B4: Priser gældende fra oktober 2026. Fra 2022 og frem indeksreguleres timeprisen halvårligt den 1/4 og 1/10. Man er altid velkommen til (omkostningsfrit) at ringe til afdelingen med sprøgsmål. Alle priser er vejledende. Ret til ændringer forbeholdes.
B5: Kontakt afdelingen: 87 39 40 41 | D5: Timepris (kr. ex. moms): | F5: 750
B6: POST | C6: KOMMENTAR / BESKRIVELSE | D6: PRØVETYPE | E6: PRIS EX. MOMS (kr.)
B7: KONSULENTSERVICE - Vi anbefaler at ansøge om konsulentservice i forbindelse med budgetplanlægning
B8: Strategimøde (telefonisk/i felten) | C8: F.eks. via videoopkald | E8: =$F$5 -> 750 | F8: pr. time
B9: Prøveudtagning/feltarbejde | C9: Ekskl. kørsel og felttillæg | E9: =$F$5 -> 750 | F9: pr. time
B10: Kørsel | C10: Tur-retur mellem Moesgård og lokalitet | E10: 3.94 | F10: pr. km
B11: Felttillæg | C11: Ved feltarbejde | E11: 100 | F11: pr. dag
B12: Andre udgifter | C12: Fx overnatning, følger statens takster | F12: Kontakt afdelingen: 87 39 40 41
B13: PRØVEFORARBEJDNING
B14: Flotering | C14: Max. 5 liters jordprøve | E14: 471 | F14: pr. prøve
B15: Vådsoldning (0,25-2mm) | C15: Max. 5 liters jordprøve. Soldning til f.eks. screening af makrofossiler, insekter og smedeskæl | E15: =$E$14*5 -> 2355 | F15: pr. prøve
B16: MAKROFOSSILER
B17: Startgebyr | E17: =$F$5*2 -> 1500 | F17: pr. sag
B18: Kursorisk gennemsyn | C18: Typisk ekspeditionstid 3-4 måneder | D18: Tørt | E18: 174 | F18: pr. prøve
D19: Vådt (prøvemængde: 100 ml) | E19: =$F$5*2 -> 1500 | F19: pr. prøve
B20: Ekspres kursorisk gennemsyn | C20: Typisk ekspeditionstid 3-4 uger | D20: Tørt | E20: =$E$18*1.5 -> 261 | F20: pr. prøve
B21: (efter aftale) | D21: Vådt (prøvemængde: 100 ml) | E21: =$E$19*1.5 -> 2250 | F21: pr. prøve
B22: Ompakning af prøver ifm. gennemsyn | C22: F.eks. ved adskillelse af arkæologiske fund fra makrofossiler og prøver i stofposer, hvor ompakning er nødvendig | E22: 35 | F22: pr. prøve
B23: Analyse med rapport | C23: Kontakt afdelingen | E23: =$F$5 -> 750 | F23: pr. time
B24: UDTAGNING TIL 14C-DATERING - OBS! Ved flere end 100 udtagninger til 14C-datering fra samme sag gives 20 % rabat
B25: Udtagning til 14C | C25: Typisk ekspeditionstid 8-12 uger | D25: 1. prøve | E25: 869
C26: (ekskl. forsendelse) | D26: 2. og 3. prøve | E26: 759 | F26: pr. prøve
D27: Efterfølgende prøver | E27: 723 | F27: pr. prøve
B28: Ekspres udtagning til 14C | C28: Typisk ekspeditionstid 2-3 uger | D28: 1. prøve | E28: =E25*1.5 -> 1303.5
C29: (ekskl. forsendelse) | D29: 2. og 3. prøve | E29: =E26*1.5 -> 1138.5 | F29: pr. prøve
D30: Efterfølgende prøver | E30: =E27*1.5 -> 1084.5 | F30: pr. prøve
B31: Wiggle-match udtagning | D31: Udtagning af 2 prøver fra et emne | E31: =$F$5*3 -> 2250 | F31: pr. emne
D32: Udtagning af 3 prøver fra et emne | E32: =$F$5*4 -> 3000 | F32: pr. emne
D33: Udtagning af 4 eller flere prøver fra et emne | E33: =$F$5*6 -> 4500 | F33: pr. emne
B34: Indtastning til Poznan | E34: 32 | F34: pr. prøve
B35: TRÆKUL
B36: Startgebyr | E36: =$F$5*2 -> 1500 | F36: pr. sag
B37: Kursorisk vedgennemsyn | C37: Inkl. grundlæggende rapport, prøvevurdering og bestemmelse af 10 stykker trækul | E37: =$F$5*2 -> 1500 | F37: pr. prøve
B38: Vedanalyse | C38: Ekskl. rapport. Inkluderer bestemmelse af op til 30 stk. trækul. Identifikationsantallet er med forbehold i bevarings- og fragmentationsgrad | E38: =$F$5*6 -> 4500 | F38: pr. prøve
B39: Rapport (vedanalyse) | C39: Typisk ekspeditionstid 8-12 måneder | D39: Til og med 4 prøver = 2 timer | E39: =$F$5*2 -> 1500 | F39: pr. rapport
D40: 5-9 prøver = 8 timer | E40: =$F$5*8 -> 6000 | F40: pr. rapport
D41: 10-30 prøver = 16 timer | E41: =$F$5*16 -> 12000 | F41: pr. rapport
D42: Flere end 30 prøver = 24 timer | E42: =$F$5*24 -> 18000 | F42: pr. rapport
...

Sheet PRISBEREGNER NAT.
B3: PRISBEREGNER NATURVIDENSKAB | I3: #VALUE!
B5: Skemaets beregninger er baseret på priserne fra arket "PRISLISTE NATURVIDENSKAB". Se dette ark for uddybende kommentarer angående priserne. | H5: DATO
B6: Skemaet kan benyttes til at udregne priser og skabe overblik over naturvidenskablige undersøgelser ifm. ansøgninger til Slots- og Kulturstyrelsen. | H6: JOURNAL NR.
B7: I de gule felter i kolonne E indtastes det ønskede/forventede antal af de relevante ydelser for den givne lokalitet. Alle priser er vejledende.
G8: Timepris (kr. ex. moms): | I8: 750
B9: POST | C9: PRØVETYPE / KOMMENTAR | D9: PRIS PR. ENHED | E9: ANTAL | G9: PRIS EX. MOMS | H9: MOMS | I9: PRIS INKL. MOMS
B10: KONSULENTSERVICE
B11: Strategimøde (telefonisk/i felten) | C11: F.eks. via videoopkald | D11: =$I$8 -> 750 | F11: timer | G11: =D11*E11 -> 0 | H11: =G11*0.25 -> 0 | I11: =SUM(G11:H11) -> 0
B12: Strategimøde i felten | C12: Ekskl. kørsel | D12: =$I$8 -> 750 | F12: timer | G12: =D12*E12 -> 0 | H12: =G12*0.25 -> 0 | I12: =SUM(G12:H12) -> 0
B13: Prøveudtagning/feltarbejde | C13: Ekskl. kørsel og felttillæg | D13: =$I$8 -> 750 | F13: timer | G13: =D13*E13 -> 0 | H13: =G13*0.25 -> 0 | I13: =SUM(G13:H13) -> 0
B14: Kørsel | C14: T/r Moesgård-lokalitet | D14: ='PRISLISTE NAT.'!E10 -> 3.94 | F14: km | G14: =D14*E14 -> 0 | H14: =G14*0.25 -> 0 | I14: =SUM(G14:H14) -> 0
B15: Felttillæg | C15: Pr. dag | D15: ='PRISLISTE NAT.'!E11 -> 100 | F15: dage | G15: =D15*E15 -> 0 | H15: =G15*0.25 -> 0 | I15: =SUM(G15:H15) -> 0
B16: Andre udgifter | C16: Fx overnatning, følger statens takster | E16: kr. | G16: =SUM(D16) -> 0 | H16: =G16*0.25 -> 0 | I16: =SUM(G16:H16) -> 0
B17: SAMLET | G17: =SUM(G11:G16) -> 0 | H17: =SUM(H11:H16) -> 0 | I17: =SUM(I11:I16) -> 0
B18: PRØVEFORARBEJDNING
B19: Flotering | C19: 5 L jordprøve | D19: 471 | F19: prøver | G19: =D19*E19 -> 0 | H19: =G19*0.25 -> 0 | I19: =SUM(G19:H19) -> 0
B20: Vådsoldning (0,25-2mm) | C20: Max. 5 L jord. Til screening af insekter, smedeskæl osv. | D20: =D19*5 -> 2355 | F20: prøver | G20: =D20*E20 -> 0 | H20: =G20*0.25 -> 0 | I20: =SUM(G20:H20) -> 0
B21: SAMLET | G21: =SUM(G19:G20) -> 0 | H21: =SUM(H19:H20) -> 0 | I21: =SUM(I19:I20) -> 0
B22: MAKROFOSSILER
B23: Startgebyr pr. ny sag | C23: Startgebyr ekskluderes (forsættelse af sag) | E23: FALSE | G23: =IF(E23=TRUE(),,IF(OR(E24>0,E25>0,E26>0,E27>0,E29>0),$I$8*2,)) -> 0 | H23: =G23*0.25 -> 0 | I23: =SUM(G23:H23) -> 0
B24: Kursorisk gennemsyn | C24: Tørt | D24: ='PRISLISTE NAT.'!$E$18 -> 174 | F24: prøver | G24: =D24*E24 -> 0 | H24: =G24*0.25 -> 0 | I24: =SUM(G24:H24) -> 0
C25: Vådt (prøvemængde: 100 ml) | D25: ='PRISLISTE NAT.'!E19 -> 1500 | F25: prøver | G25: =D25*E25 -> 0 | H25: =G25*0.25 -> 0 | I25: =SUM(G25:H25) -> 0
B26: Ekspres kursorisk gennemsyn | C26: Tørt | D26: ='PRISLISTE NAT.'!E20 -> 261 | F26: prøver | G26: =D26*E26 -> 0 | H26: =G26*0.25 -> 0 | I26: =SUM(G26:H26) -> 0
B27: (efter aftale) | C27: Vådt (prøvemængde: 100 ml) | D27: ='PRISLISTE NAT.'!E21 -> 2250 | F27: prøver | G27: =D27*E27 -> 0 | H27: =G27*0.25 -> 0 | I27: =SUM(G27:H27) -> 0
B28: Ompakning af prøver ifm. gennemsyn | D28: ='PRISLISTE NAT.'!$E$22 -> 35 | F28: prøver | G28: =D28*E28 -> 0 | H28: =G28*0.25 -> 0 | I28: =SUM(G28:H28) -> 0
B29: Analyse med rapport | C29: Kontakt afdelingen (Tlf. 87 39 40 41) | D29: =I8 -> 750 | F29: timer | G29: =D29*E29 -> 0 | H29: =G29*0.25 -> 0 | I29: =SUM(G29:H29) -> 0
B30: SAMLET | G30: =SUM(G23:G29) -> 0 | H30: =SUM(H23:H29) -> 0 | I30: =SUM(I23:I29) -> 0
B31: UDTAGNING TIL 14C-DATERING
B32: Udtagning til 14C | C32: 20% rabat ved 100+ prøver | D32: ='PRISLISTE NAT.'!$E$27&"-"&'PRISLISTE NAT.'!$E$25&" kr." -> 723-869 kr. | F32: prøver | G32: =IF(E32=1,'PRISLISTE NAT.'!E25,IF(E32=2,('PRISLISTE NAT.'!E25+'PRISLISTE NAT.'!E26),IF(E32=3,('PRISLISTE NAT.'!E25+'PRISLISTE NAT.'!E26+'PRISLISTE NAT.'!E26),IF(AND(E32>3,E32<100),('PRISLISTE NAT.'!E25+'PRISLISTE NAT.'!E26+'PRISLISTE NAT.'!E26+((E32-3)*'PRISLISTE NAT.'!E27)),IF(E32>=100,(('PRISLISTE NAT.'!E25+'PRISLISTE NAT.'!E26+'PRISLISTE NAT.'!E26+(E32-3)*'PRISLISTE NAT.'!E27)*0.8),))))) -> 0 | H32: =G32*0.25 -> 0 | I32: =SUM(G32:H32) -> 0
B33: Ekspres udtagning til 14C | C33: (efter aftale) | D33: ='PRISLISTE NAT.'!$E$30&"-"&'PRISLISTE NAT.'!$E$28&" kr." -> 1084,5-1303,5 kr. | F33: prøver | G33: =IF(E33=1,'PRISLISTE NAT.'!E28,IF(E33=2,('PRISLISTE NAT.'!E28+'PRISLISTE NAT.'!E29),IF(E33=3,('PRISLISTE NAT.'!E28+'PRISLISTE NAT.'!E29*2),IF(E33>3,('PRISLISTE NAT.'!E28+'PRISLISTE NAT.'!E29*2+(E33-3)*'PRISLISTE NAT.'!E30),)))) -> 0 | H33: =G33*0.25 -> 0 | I33: =SUM(G33:H33) -> 0
B34: Wiggle-match udtagning | C34: 2 udt. fra ét emne | D34: ='PRISLISTE NAT.'!E31 -> 2250 | F34: emner/prøver | G34: =D34*E34 -> 0 | H34: =G34*0.25 -> 0 | I34: =SUM(G34:H34) -> 0
C35: 3 udt. fra ét emne | D35: ='PRISLISTE NAT.'!E32 -> 3000 | F35: emner/prøver | G35: =D35*E35 -> 0 | H35: =G35*0.25 -> 0 | I35: =SUM(G35:H35) -> 0
C36: 4 eller flere udt. fra ét emne | D36: ='PRISLISTE NAT.'!E33 -> 4500 | F36: emner/prøver | G36: =D36*E36 -> 0 | H36: =G36*0.25 -> 0 | I36: =SUM(G36:H36) -> 0
B37: Indtastning til Poznan | D37: ='PRISLISTE NAT.'!$E$34 -> 32 | F37: prøver | G37: =D37*E37 -> 0 | H37: =G37*0.25 -> 0 | I37: =SUM(G37:H37) -> 0
B38: Forsendelse til dateringslab. | D38: ='PRISLISTE NAT.'!E60 -> 335 | F38: pakker | G38: =D38*E38 -> 0 | H38: =G38*0.25 -> 0 | I38: =SUM(G38:H38) -> 0
B39: SAMLET | G39: =SUM(G32:G38) -> 0 | H39: =SUM(H32:H38) -> 0 | I39: =SUM(I32:I38) -> 0
B40: TRÆKUL
B41: Startgebyr pr. ny sag | C41: Startgebyr ekskluderes (forsættelse af sag) | E41: FALSE | G41: =IF(E41=TRUE(),,IF(OR(E42>0,E43>0),$I$8*2,)) -> 0 | H41: =G41*0.25 -> 0 | I41: =SUM(G41:H41) -> 0
B42: Kursorisk vedgennemsyn | C42: Inkl. simpel rapport | D42: =$I$8*2 -> 1500 | F42: prøver | G42: =D42*E42 -> 0 | H42: =G42*0.25 -> 0 | I42: =SUM(G42:H42) -> 0
B43: Vedanalyse | C43: Ekskl. rapport | D43: =$I$8*6 -> 4500 | F43: prøver | G43: =D43*E43 -> 0 | H43: =G43*0.25 -> 0 | I43: =SUM(G43:H43) -> 0
...

Sheet PRISLISTE KONS.
B3: PRISLISTE KONSERVERING | G3: #VALUE!
B4: Priser gældende fra oktober 2026. Fra 2022 og frem indeksreguleres timeprisen halvårligt den 1/4 og 1/10. Alle priser er vejledende og afspejler kun gennemsnitsprisen for en enkelt genstand. Fragmenteringsgraden vil have yderligere indflydelse på prisen. Ved flere ensartede genstande vil prisen være reduceret. Man er altid velkommen til (omkostningsfrit) at ringe til afdelingen med sprøgsmål. Ret til ændringer forbeholdes.
B5: Kontakt afdelingen: 87 39 40 44 | F5: Timepris (kr. ex. moms): | G5: 750
B6: POST | C6: KOMMENTAR / BESKRIVELSE | D6: PRØVETYPE | E6: TIMEANTAL | F6: PRIS EX.MOMS (kr.)
B7: KONSULENTSERVICE - Vi anbefaler at ansøge om konsulentservice i forbindelse med budgetplanlægning
B8: Strategimøde (telefonisk) | C8: F.eks. via skype | F8: =$G$5 -> 750 | G8: pr. time
B9: Strategimøde i felten | C9: Ekskl. kørsel | F9: =$G$5 -> 750 | G9: pr. time
B10: Prøveudtagning/feltarbejde | C10: Ekskl. kørsel og felttillæg | F10: =$G$5 -> 750 | G10: pr. time
B11: Kørsel | C11: Tur-retur mellem Moesgård og lokalitet | F11: 3.94 | G11: pr. km
B12: Felttillæg | C12: Ved feltarbejde | F12: 100 | G12: pr. dag
B13: PRÆPARATOPTAG
B14: Startgebyr | F14: =$G$5*2 -> 1500 | G14: pr. sag
B15: Stort præparat (f.eks. urne, sværd) | C15: Ekskl. kørsel | E15: 6 | F15: =$G$5*E15 -> 4500 | G15: pr. præparat
B16: Lille præparat (f.eks. kniv, fibel) | C16: Ekskl. kørsel | E16: 4 | F16: =$G$5*E16 -> 3000 | G16: pr. præparat
B17: Kørsel | C17: Tur-retur mellem Moesgård og lokalitet | F17: 3.94 | G17: pr. km
B18: SÆRLIG DOKUMENTATION
B19: Startgebyr | F19: =$G$5*2 -> 1500 | G19: pr. sag
B20: Mikroskopbilleder | D20: 1. genstand | E20: 0.5 | F20: =$G$5*E20 -> 375 | G20: pr. genstand
D21: Efterfølgende genstande | E21: 0.25 | F21: =$G$5*E21 -> 187.5 | G21: pr. genstand
B22: Røntgenbilleder | C22: Præparat med enkelt genstand | E22: 1.65 | F22: =$G$5*E22 -> 1237.5 | G22: pr. genstand
C23: Urne eller præparat med flere genstande | F23: Kontakt afdelingen (tlf. 87 39 40 44)
C24: Fritlagt genstand | D24: 1. genstand | E24: 0.65 | F24: =$G$5*E24 -> 487.5 | G24: pr. genstand
D25: Efterfølgende genstande | E25: 0.5 | F25: =$G$5*E25 -> 375 | G25: pr. genstand
B26: 3D dokumentation | C26: Henvendelse til Arkæologisk IT (tlf. 87 16 21 76) vedr. priser på feltarbejde, genstande eller præparater | F26: Kontakt afdelingen (tlf. 87 39 40 44)
B27: CT-SCANNING
B28: Startgebyr | F28: =$G$5*2.5 -> 1875 | G28: pr. sag
B29: CT-scanning | C29: Fx urner (ekskl. 1 times transport) | F29: Kontakt afdelingen (tlf. 87 39 40 44)
B30: Mikro CT-scanning | C30: Fx trægenstande ifbm. dendrokronologi (ekskl. 1 times transport) | F30: Kontakt afdelingen (tlf. 87 39 40 44)
B31: MATERIALEANALYSER
B32: Startgebyr | F32: =$G$5*2 -> 1500 | G32: pr. sag
B33: Artsbestemmelse | C33: Af læder og hud | E33: 4 | F33: =$G$5*$E33 -> 3000 | G33: pr. prøve
B34: Fiberidentifikation | C34: Af tekstil og pels | E34: 4 | F34: =$G$5*$E34 -> 3000 | G34: pr. prøve
B35: Spottest | C35: Metalidentifikation | E35: 4 | F35: =$G$5*$E35 -> 3000 | G35: pr. prøve
B36: Lipidanalyse | C36: Analyse (eksternt laboratorie): 840 euro (6.300,00 kr.) ex.moms. | F36: =840*7.5 -> 6300 | G36: pr. prøve
C37: Udtagning, forsendelse, og tolkning | D37: 1. prøve/genstand | E37: 7 | F37: =$G$5*$E37 -> 5250 | G37: pr. prøve
D38: Efterfølgende prøver/genstande | F38: Kontakt afdelingen (tlf. 87 39 40 44)
B39: STABILISERENDE KONSERVERING - Vejledende priser for typiske eksempler (inkluderer 1,5 time til opstart, modtagelse, pakning, tilbud- og rapportskrivning) Alle genstande pakkes i syrefrie materialer til længerevarende opmagasinering eller efter behov til transport med medfølgende rapport om observationer og klimaanbefalinger
B40: Startgebyr | F40: =$G$5*2 -> 1500 | G40: pr. sag
B41: Jern | C41: Kniv, middelstørrelse | E41: 9 | F41: =$G$5*E41 -> 6750 | G41: pr. genstand
C42: Nitte/søm | E42: 6 | F42: =$G$5*E42 -> 4500 | G42: pr. genstand
...

Sheet PRISBEREGNER KONS.
B3: PRISBEREGNER KONSERVERING | I3: #VALUE!
B5: Skemaets beregninger er baseret på priserne fra arket "Prisliste Konservering". | H5: DATO
B6: Skemaet kan benyttes til at udregne priser og skabe overblik over konservering ifm. ansøgninger til Slots- og Kulturstyrelsen. | H6: JOURNAL NR.
B7: I de gule felter i kolonne E indtastes det ønskede/forventede antal af de relevante ydelser for den givne lokalitet.
G8: Timepris (kr. ex. moms): | I8: 750
B9: POST | C9: PRØVETYPE / KOMMENTAR | D9: PRIS PR. ENHED | E9: ANTAL | G9: PRIS EX. MOMS | H9: MOMS | I9: PRIS INKL. MOMS
B10: KONSULENTSERVICE
B11: Strategimøde (telefonisk) | C11: F.eks. via skype | D11: =$I$8 -> 750 | F11: timer | G11: =D11*E11 -> 0 | H11: =G11*0.25 -> 0 | I11: =SUM(G11:H11) -> 0
B12: Strategimøde i felten | C12: Ekskl. kørsel | D12: =$I$8 -> 750 | F12: timer | G12: =D12*E12 -> 0 | H12: =G12*0.25 -> 0 | I12: =SUM(G12:H12) -> 0
B13: Prøveudtagning/feltarbejde | C13: Ekskl. kørsel og felttillæg | D13: =$I$8 -> 750 | F13: timer | G13: =D13*E13 -> 0 | H13: =G13*0.25 -> 0 | I13: =SUM(G13:H13) -> 0
B14: Kørsel | C14: T/r Moesgård-lokalitet | D14: ='PRISLISTE KONS.'!F11 -> 3.94 | F14: km | G14: =D14*E14 -> 0 | H14: =G14*0.25 -> 0 | I14: =SUM(G14:H14) -> 0
B15: Felttillæg | C15: Pr. dag | D15: 100 | F15: dage | G15: =D15*E15 -> 0 | H15: =G15*0.25 -> 0 | I15: =SUM(G15:H15) -> 0
B16: SAMLET | G16: =SUM(G11:G15) -> 0 | H16: =SUM(H11:H15) -> 0 | I16: =SUM(I11:I15) -> 0
B17: PRÆPARATOPTAG
B18: Startgebyr | G18: =IF(OR(E19>0,E20>0),$I$8*2,) -> 0 | H18: =G18*0.25 -> 0 | I18: =SUM(G18:H18) -> 0
B19: Stort præparat (f.eks. urne, sværd) | C19: Ekskl. kørsel | D19: ='PRISLISTE KONS.'!$F$15 -> 4500 | F19: præparater | G19: =D19*E19 -> 0 | H19: =G19*0.25 -> 0 | I19: =SUM(G19:H19) -> 0
B20: Lille præparat (f.eks. kniv, fibel) | C20: Ekskl. kørsel | D20: ='PRISLISTE KONS.'!$F$16 -> 3000 | F20: præparater | G20: =D20*E20 -> 0 | H20: =G20*0.25 -> 0 | I20: =SUM(G20:H20) -> 0
B21: Kørsel | C21: Tur-retur mellem Moesgård og lokalitet | D21: ='PRISLISTE KONS.'!F11 -> 3.94 | F21: km | G21: =D21*E21 -> 0 | H21: =G21*0.25 -> 0 | I21: =SUM(G21:H21) -> 0
B22: SAMLET | G22: =SUM(G18:G21) -> 0 | H22: =SUM(H18:H21) -> 0 | I22: =SUM(I18:I21) -> 0
B23: SÆRLIG DOKUMENTATION
B24: Startgebyr | G24: =IF(OR(E25>0,E26>0,E27>0,E28>0,E29>0),$I$8*2,) -> 0 | H24: =G24*0.25 -> 0 | I24: =SUM(G24:H24) -> 0
B25: Mikroskopbilleder | D25: ='PRISLISTE KONS.'!F20&" - "&'PRISLISTE KONS.'!F21&" kr." -> 375 - 187,5 kr. | F25: genstande | G25: =IF(E25=1,($I$8*0.5),IF(E25>1,($I$8*0.5)+(($I$8*0.25)*(E25-1)),)) -> 0 | H25: =G25*0.25 -> 0 | I25: =SUM(G25:H25) -> 0
B26: Røntgenbilleder | C26: Præparat med enkelt genstand | D26: ='PRISLISTE KONS.'!F22 -> 1237.5 | F26: genstande | G26: =D26*E26 -> 0 | H26: =G26*0.25 -> 0 | I26: =SUM(G26:H26) -> 0
C27: Urne eller præparat med flere genstande. Kontakt afdelingen (tlf. 87 39 40 44) | D27: =$I$8+100 -> 850 | F27: timer | G27: =D27*E27 -> 0 | H27: =G27*0.25 -> 0 | I27: =SUM(G27:H27) -> 0
C28: Fritlagt genstand | D28: ='PRISLISTE KONS.'!F24&" - "&'PRISLISTE KONS.'!F25&" kr." -> 487,5 - 375 kr. | F28: genstande | G28: =IF(E28=1,($I$8*0.65),IF(E28>1,($I$8*0.65)+(($I$8*0.5)*(E28-1)),)) -> 0 | H28: =G28*0.25 -> 0 | I28: =SUM(G28:H28) -> 0
B29: 3D dokumentation | C29: Kontakt afdelingen (tlf. 87 39 40 44) | D29: =$I$8 -> 750 | F29: timer | G29: =D29*E29 -> 0 | H29: =G29*0.25 -> 0 | I29: =SUM(G29:H29) -> 0
B30: SAMLET | G30: =SUM(G24:G29) -> 0 | H30: =G30*0.25 -> 0 | I30: =SUM(G30:H30) -> 0
B31: CT-SCANNING
B32: Startgebyr | G32: =IF(OR(D33>0,D34>0),$I$8*2.5,) -> 0 | H32: =G32*0.25 -> 0 | I32: =SUM(G32:H32) -> 0
B33: CT-scanning | C33: Kontakt afdelingen (Tlf. 87 39 40 41) | E33: kr. | G33: =D33*1 -> 0 | H33: =G33*0.25 -> 0 | I33: =SUM(G33:H33) -> 0
B34: Mikro CT-scanning | C34: Kontakt afdelingen (Tlf. 87 39 40 41) | E34: kr. | G34: =D34*1 -> 0 | H34: =G34*0.25 -> 0 | I34: =SUM(G34:H34) -> 0
B35: SAMLET | G35: =SUM(G32:G34) -> 0 | H35: =SUM(H32:H34) -> 0 | I35: =SUM(I32:I34) -> 0
B36: MATERIALEANALYSER
B37: Startgebyr | G37: =IF(OR(E38>0,E39>0,E40>0),$I$8*2,) -> 0 | H37: =G37*0.25 -> 0 | I37: =SUM(G37:H37) -> 0
B38: Artsbestemmelse, | C38: Af læder og hud | D38: ='PRISLISTE KONS.'!F33 -> 3000 | F38: prøver | G38: =D38*E38 -> 0 | H38: =G38*0.25 -> 0 | I38: =SUM(G38:H38) -> 0
B39: Fiberidentifikation | C39: Af tekstil og pels | D39: ='PRISLISTE KONS.'!F34 -> 3000 | F39: prøver | G39: =D39*E39 -> 0 | H39: =G39*0.25 -> 0 | I39: =SUM(G39:H39) -> 0
B40: Spottest | C40: Metalidentifikation | D40: ='PRISLISTE KONS.'!F35 -> 3000 | F40: prøver | G40: =D40*E40 -> 0 | H40: =G40*0.25 -> 0 | I40: =SUM(G40:H40) -> 0
B41: Lipidanalyse | C41: Analyse (eksternt laboratorie) | D41: ='PRISLISTE KONS.'!F36 -> 6300 | G41: =D41*E42 -> 0 | H41: =G41*0.25 -> 0 | I41: =SUM(G41:H41) -> 0
C42: Udtagning af materiale, forsendelse og tolkning af resultater | D42: ='PRISLISTE KONS.'!F37 -> 5250 | F42: prøver | G42: =D42*E42 -> 0 | H42: =G42*0.25 -> 0 | I42: =SUM(G42:H42) -> 0
B43: SAMLET | G43: =SUM(G37:G42) -> 0 | H43: =SUM(H37:H42) -> 0 | I43: =SUM(I37:I42) -> 0
...

Sheet LOG
A1: Opdateringer | B1: Bemærkninger
A2: 45383 | B2: Indeksreguleret til timepris 665.
B3: Tilføjet mulighed for at fjerne startgebyr ved fortsættelse af sager.
B4: Lipidanalyser (konservering) er rattet jf. Helles analysebeskrivelse
B5: Fil er nu gemt i mappe kaldet "Aktuel prisliste" med generisk titel "Priser Konservering & Naturvidenskab (låst)". Ved næste opdatering udskiftes filen men samme navn benyttes så genvejene forhåbentlig ikke brydes.
A6: 45689 | B6: Alt Materialeanlyse fjernes fra priser
B7: Farver opdateres til Moesgaard farvepaletten og der tilføjer Moesgaard logo
A8: 45748 | B8: Ønskede ændring lavet. Fx kerneboringer tilføjet, knogler ændret en del.
